{
 "currentVersion": 11.3,
 "serviceDescription": "Afternoon heat index (°F) in Harris County on Aug 7, 2020",
 "name": "HINDX/Afternoon_Heat_Index_in_Houston_2020",
 "description": "Afternoon heat index (°F) in Harris County on Aug 7, 2020",
 "extent": {
  "xmin": -95.66285018799994,
  "ymin": 29.589727989000075,
  "xmax": -94.90709357199994,
  "ymax": 29.994510981000076,
  "spatialReference": {
   "wkid": 4326,
   "latestWkid": 4326
  }
 },
 "initialExtent": {
  "xmin": -95.66285018799994,
  "ymin": 29.589727989000075,
  "xmax": -94.90709357199994,
  "ymax": 29.994510981000076,
  "spatialReference": {
   "wkid": 4326,
   "latestWkid": 4326
  }
 },
 "fullExtent": {
  "xmin": -95.66285018799994,
  "ymin": 29.589727989000075,
  "xmax": -94.90709357199994,
  "ymax": 29.994510981000076,
  "spatialReference": {
   "wkid": 4326,
   "latestWkid": 4326
  }
 },
 "sortableFields": "start_time_01,end_time_01,start_time_02,end_time_02,start_time_03,end_time_03,minps,maxps,lowps,highps,centerx,centery,zorder,st_area(shape),st_perimeter(shape)",
 "bandCount": 1,
 "pixelType": "F32",
 "minValues": [
  99.87124633789062
 ],
 "maxValues": [
  122.0947494506836
 ],
 "meanValues": [
  105.28071118622367
 ],
 "stdvValues": [
  1.4200096269095281
 ],
 "hasMultidimensions": false,
 "pixelSizeX": 8.983199999999992E-5,
 "pixelSizeY": 8.983200000000027E-5,
 "meanPixelSize": 10.000052496941361,
 "datasetFormat": "AMD",
 "uncompressedSize": 151635912,
 "blockWidth": 2048,
 "blockHeight": 256,
 "compressionType": "None",
 "bandNames": [
  "Band_1"
 ],
 "allowCopy": true,
 "allowAnalysis": true,
 "itemAccess": false,
 "inspectionCapabilities": "",
 "minPixelSize": 0,
 "maxPixelSize": 0,
 "copyrightText": "NOAA",
 "serviceDataType": "esriImageServiceDataTypeScientific",
 "serviceSourceType": "esriImageServiceSourceTypeMosaicDataset",
 "objectIdField": "objectid",
 "fields": [
  {
   "name": "objectid",
   "type": "esriFieldTypeOID",
   "alias": "objectid",
   "domain": null
  },
  {
   "name": "name",
   "type": "esriFieldTypeString",
   "alias": "name",
   "domain": null,
   "length": 200
  },
  {
   "name": "minps",
   "type": "esriFieldTypeDouble",
   "alias": "minps",
   "domain": null
  },
  {
   "name": "maxps",
   "type": "esriFieldTypeDouble",
   "alias": "maxps",
   "domain": null
  },
  {
   "name": "lowps",
   "type": "esriFieldTypeDouble",
   "alias": "lowps",
   "domain": null
  },
  {
   "name": "highps",
   "type": "esriFieldTypeDouble",
   "alias": "highps",
   "domain": null
  },
  {
   "name": "category",
   "type": "esriFieldTypeInteger",
   "alias": "category",
   "domain": {
    "type": "codedValue",
    "name": "MosaicCatalogItemCategoryDomain",
    "description": "Catalog item categories.",
    "codedValues": [
     {
      "name": "Unknown",
      "code": 0
     },
     {
      "name": "Primary",
      "code": 1
     },
     {
      "name": "Overview",
      "code": 2
     },
     {
      "name": "Unprocessed Overview",
      "code": 3
     },
     {
      "name": "Partial Overview",
      "code": 4
     },
     {
      "name": "Inactive",
      "code": 5
     },
     {
      "name": "Uploaded",
      "code": 253
     },
     {
      "name": "Incomplete",
      "code": 254
     },
     {
      "name": "Custom",
      "code": 255
     }
    ],
    "mergePolicy": "esriMPTDefaultValue",
    "splitPolicy": "esriSPTDefaultValue"
   }
  },
  {
   "name": "tag",
   "type": "esriFieldTypeString",
   "alias": "tag",
   "domain": null,
   "length": 100
  },
  {
   "name": "groupname",
   "type": "esriFieldTypeString",
   "alias": "groupname",
   "domain": null,
   "length": 100
  },
  {
   "name": "productname",
   "type": "esriFieldTypeString",
   "alias": "productname",
   "domain": null,
   "length": 100
  },
  {
   "name": "centerx",
   "type": "esriFieldTypeDouble",
   "alias": "centerx",
   "domain": null
  },
  {
   "name": "centery",
   "type": "esriFieldTypeDouble",
   "alias": "centery",
   "domain": null
  },
  {
   "name": "zorder",
   "type": "esriFieldTypeInteger",
   "alias": "zorder",
   "domain": null
  },
  {
   "name": "shape",
   "type": "esriFieldTypeGeometry",
   "alias": "shape",
   "domain": null
  },
  {
   "name": "city_name",
   "type": "esriFieldTypeString",
   "alias": "city_name",
   "domain": null,
   "length": 255
  },
  {
   "name": "environmental_variable",
   "type": "esriFieldTypeString",
   "alias": "environmental_variable",
   "domain": null,
   "length": 255
  },
  {
   "name": "units",
   "type": "esriFieldTypeString",
   "alias": "units",
   "domain": null,
   "length": 255
  },
  {
   "name": "units_abbreviation",
   "type": "esriFieldTypeString",
   "alias": "units_abbreviation",
   "domain": null,
   "length": 255
  },
  {
   "name": "start_time_01",
   "type": "esriFieldTypeDate",
   "alias": "start_time_01",
   "domain": null,
   "length": 8
  },
  {
   "name": "end_time_01",
   "type": "esriFieldTypeDate",
   "alias": "end_time_01",
   "domain": null,
   "length": 8
  },
  {
   "name": "start_time_02",
   "type": "esriFieldTypeDate",
   "alias": "start_time_02",
   "domain": null,
   "length": 8
  },
  {
   "name": "end_time_02",
   "type": "esriFieldTypeDate",
   "alias": "end_time_02",
   "domain": null,
   "length": 8
  },
  {
   "name": "start_time_03",
   "type": "esriFieldTypeDate",
   "alias": "start_time_03",
   "domain": null,
   "length": 8
  },
  {
   "name": "end_time_03",
   "type": "esriFieldTypeDate",
   "alias": "end_time_03",
   "domain": null,
   "length": 8
  },
  {
   "name": "st_area(shape)",
   "type": "esriFieldTypeDouble",
   "alias": "st_area(shape)",
   "domain": null
  },
  {
   "name": "st_perimeter(shape)",
   "type": "esriFieldTypeDouble",
   "alias": "st_perimeter(shape)",
   "domain": null
  }
 ],
 "capabilities": "Catalog,Mensuration,Image,Metadata",
 "defaultMosaicMethod": "ByAttribute",
 "allowedMosaicMethods": "ByAttribute,None,Center,NorthWest,LockRaster,Nadir,Viewpoint,Seamline",
 "sortField": "Start_Time_01",
 "sortValue": "3000",
 "sortAscending": true,
 "mosaicOperator": "First",
 "maxDownloadSizeLimit": 2048,
 "defaultCompressionQuality": 75,
 "defaultResamplingMethod": "Bilinear",
 "maxImageHeight": 4100,
 "maxImageWidth": 15000,
 "maxRecordCount": 1000,
 "maxDownloadImageCount": 1000,
 "maxMosaicImageCount": 1000,
 "allowRasterFunction": true,
 "rasterFunctionInfos": [
  {
   "name": "Nampa_Air_Temperature",
   "description": "A raster function template.",
   "help": ""
  },
  {
   "name": "None",
   "description": "Make a Raster or Raster Dataset into a Function Raster Dataset.",
   "help": ""
  }
 ],
 "rasterTypeInfos": [
  {
   "name": "Raster Dataset",
   "description": "Supports all ArcGIS Raster Datasets",
   "help": ""
  }
 ],
 "mensurationCapabilities": "Basic",
 "hasHistograms": true,
 "hasColormap": false,
 "hasRasterAttributeTable": false,
 "minScale": 0,
 "maxScale": 0,
 "exportTilesAllowed": false,
 "supportsStatistics": true,
 "supportsAdvancedQueries": true,
 "editFieldsInfo": null,
 "ownershipBasedAccessControlForRasters": null,
 "allowComputeTiePoints": false,
 "useStandardizedQueries": true,
 "advancedQueryCapabilities": {
  "useStandardizedQueries": true,
  "supportsStatistics": true,
  "supportsOrderBy": true,
  "supportsDistinct": true,
  "supportsPagination": true
 },
 "spatialReference": {
  "wkid": 4326,
  "latestWkid": 4326
 },
 "resampling": false
}
