{
 "currentVersion": 11.3,
 "serviceDescription": "Weekly Ocean Temperature Departure: Tiles",
 "name": "SSTA/SSTA_current",
 "description": "Weekly Ocean Temperature Departure: Tiles",
 "extent": {
  "xmin": -2.0037507842788246E7,
  "ymin": -3.024097145838615E7,
  "xmax": 2.0037507842788246E7,
  "ymax": 3.024097145838615E7,
  "spatialReference": {
   "wkid": 102100,
   "latestWkid": 3857
  }
 },
 "initialExtent": {
  "xmin": -2.0037507842788246E7,
  "ymin": -3.024097145838615E7,
  "xmax": 2.0037507842788246E7,
  "ymax": 3.024097145838615E7,
  "spatialReference": {
   "wkid": 102100,
   "latestWkid": 3857
  }
 },
 "fullExtent": {
  "xmin": -2.0037507842788246E7,
  "ymin": -3.024097145838615E7,
  "xmax": 2.0037507842788246E7,
  "ymax": 3.024097145838615E7,
  "spatialReference": {
   "wkid": 102100,
   "latestWkid": 3857
  }
 },
 "sortableFields": "",
 "bandCount": 4,
 "pixelType": "U8",
 "minValues": [],
 "maxValues": [],
 "meanValues": [],
 "stdvValues": [],
 "hasMultidimensions": false,
 "pixelSizeX": 9783.939493107513,
 "pixelSizeY": 9783.939620502559,
 "meanPixelSize": 9783.939556805035,
 "datasetFormat": "AMD",
 "uncompressedSize": 101244780,
 "blockWidth": 2048,
 "blockHeight": 256,
 "compressionType": "None",
 "bandNames": [
  "Band_1",
  "Band_2",
  "Band_3",
  "Band_4"
 ],
 "allowCopy": true,
 "allowAnalysis": true,
 "itemAccess": false,
 "inspectionCapabilities": "",
 "minPixelSize": 0,
 "maxPixelSize": 156543.033928,
 "copyrightText": "",
 "serviceDataType": "esriImageServiceDataTypeGeneric",
 "serviceSourceType": "esriImageServiceSourceTypeMosaicDataset",
 "objectIdField": "objectid",
 "fields": [
  {
   "name": "objectid",
   "type": "esriFieldTypeOID",
   "alias": "objectid",
   "domain": null
  },
  {
   "name": "name",
   "type": "esriFieldTypeString",
   "alias": "name",
   "domain": null,
   "length": 200
  },
  {
   "name": "minps",
   "type": "esriFieldTypeDouble",
   "alias": "minps",
   "domain": null
  },
  {
   "name": "maxps",
   "type": "esriFieldTypeDouble",
   "alias": "maxps",
   "domain": null
  },
  {
   "name": "lowps",
   "type": "esriFieldTypeDouble",
   "alias": "lowps",
   "domain": null
  },
  {
   "name": "highps",
   "type": "esriFieldTypeDouble",
   "alias": "highps",
   "domain": null
  },
  {
   "name": "category",
   "type": "esriFieldTypeInteger",
   "alias": "category",
   "domain": {
    "type": "codedValue",
    "name": "MosaicCatalogItemCategoryDomain",
    "description": "Catalog item categories.",
    "codedValues": [
     {
      "name": "Unknown",
      "code": 0
     },
     {
      "name": "Primary",
      "code": 1
     },
     {
      "name": "Overview",
      "code": 2
     },
     {
      "name": "Unprocessed Overview",
      "code": 3
     },
     {
      "name": "Partial Overview",
      "code": 4
     },
     {
      "name": "Inactive",
      "code": 5
     },
     {
      "name": "Uploaded",
      "code": 253
     },
     {
      "name": "Incomplete",
      "code": 254
     },
     {
      "name": "Custom",
      "code": 255
     }
    ],
    "mergePolicy": "esriMPTDefaultValue",
    "splitPolicy": "esriSPTDefaultValue"
   }
  },
  {
   "name": "tag",
   "type": "esriFieldTypeString",
   "alias": "tag",
   "domain": null,
   "length": 100
  },
  {
   "name": "groupname",
   "type": "esriFieldTypeString",
   "alias": "groupname",
   "domain": null,
   "length": 100
  },
  {
   "name": "productname",
   "type": "esriFieldTypeString",
   "alias": "productname",
   "domain": null,
   "length": 100
  },
  {
   "name": "centerx",
   "type": "esriFieldTypeDouble",
   "alias": "centerx",
   "domain": null
  },
  {
   "name": "centery",
   "type": "esriFieldTypeDouble",
   "alias": "centery",
   "domain": null
  },
  {
   "name": "zorder",
   "type": "esriFieldTypeInteger",
   "alias": "zorder",
   "domain": null
  },
  {
   "name": "shape",
   "type": "esriFieldTypeGeometry",
   "alias": "shape",
   "domain": null
  },
  {
   "name": "st_area(shape)",
   "type": "esriFieldTypeDouble",
   "alias": "st_area(shape)",
   "domain": null
  },
  {
   "name": "st_perimeter(shape)",
   "type": "esriFieldTypeDouble",
   "alias": "st_perimeter(shape)",
   "domain": null
  }
 ],
 "capabilities": "Catalog,Mensuration,Image,Metadata",
 "defaultMosaicMethod": "ByAttribute",
 "allowedMosaicMethods": "ByAttribute,None,Center,NorthWest,LockRaster,Nadir,Viewpoint,Seamline",
 "sortField": "name",
 "sortValue": "0",
 "sortAscending": true,
 "mosaicOperator": "First",
 "maxDownloadSizeLimit": 2048,
 "defaultCompressionQuality": 75,
 "defaultResamplingMethod": "Bilinear",
 "maxImageHeight": 4100,
 "maxImageWidth": 15000,
 "maxRecordCount": 1000,
 "maxDownloadImageCount": 20,
 "maxMosaicImageCount": 1,
 "singleFusedMapCache": true,
 "tileInfo": {
  "rows": 256,
  "cols": 256,
  "dpi": 96,
  "format": "MIXED",
  "compressionQuality": 75,
  "origin": {
   "x": -2.0037508342787E7,
   "y": 2.0037508342787E7
  },
  "spatialReference": {
   "wkid": 102100,
   "latestWkid": 3857
  },
  "lods": [
   {
    "level": 0,
    "resolution": 156543.033928,
    "scale": 5.91657527591555E8
   },
   {
    "level": 1,
    "resolution": 78271.5169639999,
    "scale": 2.95828763795777E8
   },
   {
    "level": 2,
    "resolution": 39135.7584820001,
    "scale": 1.47914381897889E8
   },
   {
    "level": 3,
    "resolution": 19567.8792409999,
    "scale": 7.3957190948944E7
   },
   {
    "level": 4,
    "resolution": 9783.93962049996,
    "scale": 3.6978595474472E7
   },
   {
    "level": 5,
    "resolution": 4891.96981024998,
    "scale": 1.8489297737236E7
   },
   {
    "level": 6,
    "resolution": 2445.98490512499,
    "scale": 9244648.868618
   },
   {
    "level": 7,
    "resolution": 1222.99245256249,
    "scale": 4622324.434309
   },
   {
    "level": 8,
    "resolution": 611.49622628138,
    "scale": 2311162.217155
   },
   {
    "level": 9,
    "resolution": 305.748113140558,
    "scale": 1155581.108577
   },
   {
    "level": 10,
    "resolution": 152.874056570411,
    "scale": 577790.554289
   },
   {
    "level": 11,
    "resolution": 76.4370282850732,
    "scale": 288895.277144
   },
   {
    "level": 12,
    "resolution": 38.2185141425366,
    "scale": 144447.638572
   },
   {
    "level": 13,
    "resolution": 19.1092570712683,
    "scale": 72223.819286
   },
   {
    "level": 14,
    "resolution": 9.55462853563415,
    "scale": 36111.909643
   },
   {
    "level": 15,
    "resolution": 4.77731426794937,
    "scale": 18055.954822
   },
   {
    "level": 16,
    "resolution": 2.38865713397468,
    "scale": 9027.977411
   },
   {
    "level": 17,
    "resolution": 1.19432856685505,
    "scale": 4513.988705
   },
   {
    "level": 18,
    "resolution": 0.597164283559817,
    "scale": 2256.994353
   },
   {
    "level": 19,
    "resolution": 0.298582141647617,
    "scale": 1128.497176
   },
   {
    "level": 20,
    "resolution": 0.14929107082380833,
    "scale": 564.248588
   },
   {
    "level": 21,
    "resolution": 0.07464553541190416,
    "scale": 282.124294
   },
   {
    "level": 22,
    "resolution": 0.03732276770595208,
    "scale": 141.062147
   },
   {
    "level": 23,
    "resolution": 0.01866138385297604,
    "scale": 70.5310735
   }
  ]
 },
 "storageInfo": {
  "storageFormat": "esriMapCacheStorageModeCompactV2",
  "packetSize": 128
 },
 "cacheType": "Map",
 "allowRasterFunction": true,
 "rasterFunctionInfos": [
  {
   "name": "None",
   "description": "Make a Raster or Raster Dataset into a Function Raster Dataset.",
   "help": ""
  }
 ],
 "rasterTypeInfos": [
  {
   "name": "Raster Dataset",
   "description": "Supports all ArcGIS Raster Datasets",
   "help": ""
  }
 ],
 "mensurationCapabilities": "Basic",
 "hasHistograms": false,
 "hasColormap": false,
 "hasRasterAttributeTable": false,
 "minScale": 5.91657527591555E8,
 "maxScale": 0,
 "exportTilesAllowed": false,
 "supportsStatistics": true,
 "supportsAdvancedQueries": true,
 "editFieldsInfo": null,
 "ownershipBasedAccessControlForRasters": null,
 "allowComputeTiePoints": false,
 "useStandardizedQueries": true,
 "advancedQueryCapabilities": {
  "useStandardizedQueries": true,
  "supportsStatistics": true,
  "supportsOrderBy": true,
  "supportsDistinct": true,
  "supportsPagination": true
 },
 "spatialReference": {
  "wkid": 102100,
  "latestWkid": 3857
 },
 "resampling": true
}
