View In:
ArcGIS JavaScript
ArcGIS Online Map Viewer
ArcGIS Earth
Service Description: Current Bathymetry
Name: BATH/BATH_current
Description: Current Bathymetry
Single Fused Map Cache: false
Extent:
XMin: -179.999996328
YMin: -89.999997952
XMax: 179.999999576
YMax: 90.0
Spatial Reference: 4326
(4326)
Initial Extent:
XMin: -179.999996328
YMin: -89.999997952
XMax: 179.999999576
YMax: 90.0
Spatial Reference: 4326
(4326)
Full Extent:
XMin: -179.999996328
YMin: -89.999997952
XMax: 179.999999576
YMax: 90.0
Spatial Reference: 4326
(4326)
Pixel Size X: 0.021972656
Pixel Size Y: 0.021972656
Band Count: 4
Pixel Type: U8
RasterFunction Infos: {"rasterFunctionInfos": [{
"help": "",
"name": "None",
"description": "Make a Raster or Raster Dataset into a Function Raster Dataset."
}]}
Mensuration Capabilities: Basic
Inspection Capabilities:
Has Histograms: false
Has Colormap: false
Has Multi Dimensions : false
Rendering Rule:
Min Scale: 0
Max Scale: 0
Copyright Text:
Service Data Type: esriImageServiceDataTypeGeneric
Min Values: N/A
Max Values: N/A
Mean Values: N/A
Standard Deviation Values: N/A
Object ID Field: objectid
Fields:
-
objectid
(
alias: objectid, type: esriFieldTypeOID
)
-
name
(
length: 200, alias: name, type: esriFieldTypeString
)
-
minps
(
alias: minps, type: esriFieldTypeDouble
)
-
maxps
(
alias: maxps, type: esriFieldTypeDouble
)
-
lowps
(
alias: lowps, type: esriFieldTypeDouble
)
-
highps
(
alias: highps, type: esriFieldTypeDouble
)
-
category
(
alias: category, type: esriFieldTypeInteger
, Coded Values:
[0: Unknown]
, [1: Primary]
, [2: Overview]
, ...6 more...
)
-
tag
(
length: 100, alias: tag, type: esriFieldTypeString
)
-
groupname
(
length: 100, alias: groupname, type: esriFieldTypeString
)
-
productname
(
length: 100, alias: productname, type: esriFieldTypeString
)
-
centerx
(
alias: centerx, type: esriFieldTypeDouble
)
-
centery
(
alias: centery, type: esriFieldTypeDouble
)
-
zorder
(
alias: zorder, type: esriFieldTypeInteger
)
-
shape
(
alias: shape, type: esriFieldTypeGeometry
)
-
st_area(shape)
(
alias: st_area(shape), type: esriFieldTypeDouble
)
-
st_perimeter(shape)
(
alias: st_perimeter(shape), type: esriFieldTypeDouble
)
Default Mosaic Method: Northwest
Allowed Mosaic Methods: NorthWest,Center,LockRaster,ByAttribute,Nadir,Viewpoint,Seamline,None
SortField:
SortValue: N/A
Mosaic Operator: First
Default Compression Quality: 75
Default Resampling Method: Bilinear
Max Record Count: 1000
Max Image Height: 4100
Max Image Width: 15000
Max Download Image Count: 20
Max Mosaic Image Count: 1
Allow Raster Function: true
Allow Copy: true
Allow Analysis: true
Allow Compute TiePoints: false
Supports Statistics: true
Supports Advanced Queries: true
Use StandardizedQueries: true
Raster Type Infos:
Name: Raster Dataset
Description: Supports all ArcGIS Raster Datasets
Help:
Has Raster Attribute Table: false
Edit Fields Info: N/A
Ownership Based AccessControl For Rasters: N/A
Child Resources:
Info
Statistics
Key Properties
Legend
Raster Function Infos
Supported Operations:
Export Image
Query
Identify
Measure
Compute Histograms
Compute Statistics Histograms
Get Samples
Compute Class Statistics
Query GPS Info
Find Images
Image to Map
Map to Image
Measure from Image
Image to Map Multiray
Query Boundary
Compute Pixel Location
Compute Angles
Validate
Project