View In:
ArcGIS JavaScript
ArcGIS Online Map Viewer
ArcGIS Earth
Service Description: NASA and USGS data from the polar orbiting satellite
Name: DITC-UHI/LANDSAT_daily_20240807_Houston
Description: NASA and USGS data from the polar orbiting satellite
Single Fused Map Cache: false
Extent:
XMin: -95.79597969999998
YMin: 29.206222760000053
XMax: -94.85047469999998
YMax: 29.86429424000005
Spatial Reference: 4326
(4326)
Initial Extent:
XMin: -95.79597969999998
YMin: 29.206222760000053
XMax: -94.85047469999998
YMax: 29.86429424000005
Spatial Reference: 4326
(4326)
Full Extent:
XMin: -95.79597969999998
YMin: 29.206222760000053
XMax: -94.85047469999998
YMax: 29.86429424000005
Spatial Reference: 4326
(4326)
Pixel Size X: 1.8910099999999944E-4
Pixel Size Y: 1.8910099999999906E-4
Band Count: 4
Pixel Type: U8
RasterFunction Infos: {"rasterFunctionInfos": [{
"name": "None",
"description": "Make a Raster or Raster Dataset into a Function Raster Dataset.",
"help": ""
}]}
Mensuration Capabilities: Basic
Inspection Capabilities:
Has Histograms: false
Has Colormap: false
Has Multi Dimensions : false
Rendering Rule:
Min Scale: 0
Max Scale: 0
Resampling: false
Copyright Text: NOAA
Service Data Type: esriImageServiceDataTypeGeneric
Min Values: N/A
Max Values: N/A
Mean Values: N/A
Standard Deviation Values: N/A
Object ID Field: objectid
Fields:
-
objectid
(
type: esriFieldTypeOID, alias: objectid
)
-
name
(
type: esriFieldTypeString, alias: name, length: 200
)
-
minps
(
type: esriFieldTypeDouble, alias: minps
)
-
maxps
(
type: esriFieldTypeDouble, alias: maxps
)
-
lowps
(
type: esriFieldTypeDouble, alias: lowps
)
-
highps
(
type: esriFieldTypeDouble, alias: highps
)
-
category
(
type: esriFieldTypeInteger, alias: category
, Coded Values:
[0: Unknown]
, [1: Primary]
, [2: Overview]
, ...6 more...
)
-
tag
(
type: esriFieldTypeString, alias: tag, length: 100
)
-
groupname
(
type: esriFieldTypeString, alias: groupname, length: 100
)
-
productname
(
type: esriFieldTypeString, alias: productname, length: 100
)
-
centerx
(
type: esriFieldTypeDouble, alias: centerx
)
-
centery
(
type: esriFieldTypeDouble, alias: centery
)
-
zorder
(
type: esriFieldTypeInteger, alias: zorder
)
-
shape
(
type: esriFieldTypeGeometry, alias: shape
)
-
st_area(shape)
(
type: esriFieldTypeDouble, alias: st_area(shape)
)
-
st_perimeter(shape)
(
type: esriFieldTypeDouble, alias: st_perimeter(shape)
)
Default Mosaic Method: Northwest
Allowed Mosaic Methods: NorthWest,Center,LockRaster,ByAttribute,Nadir,Viewpoint,Seamline,None
SortField:
SortValue: null
Mosaic Operator: First
Default Compression Quality: 75
Default Resampling Method: Bilinear
Max Record Count: 1000
Max Image Height: 4100
Max Image Width: 15000
Max Download Image Count: 20
Max Mosaic Image Count: 1
Allow Raster Function: true
Allow Copy: true
Allow Analysis: true
Allow Compute TiePoints: false
Supports Statistics: true
Supports Advanced Queries: true
Use StandardizedQueries: true
Raster Type Infos:
Name: Raster Dataset
Description: Supports all ArcGIS Raster Datasets
Help:
Has Raster Attribute Table: false
Edit Fields Info: null
Ownership Based AccessControl For Rasters: null
Child Resources:
Info
Statistics
Key Properties
Legend
Raster Function Infos
Supported Operations:
Export Image
Query
Identify
Measure
Compute Histograms
Compute Statistics Histograms
Get Samples
Compute Class Statistics
Query GPS Info
Find Images
Image to Map
Map to Image
Measure from Image
Image to Map Multiray
Query Boundary
Compute Pixel Location
Compute Angles
Validate
Project