View In:
ArcGIS JavaScript
ArcGIS Online Map Viewer
ArcGIS Earth
Service Description: Evening heat index (°F) in Harris County on Aug 7, 2020
Name: HINDX/Evening_Heat_Index_in_Houston_2020
Description: Evening heat index (°F) in Harris County on Aug 7, 2020
Single Fused Map Cache: false
Extent:
XMin: -95.66285018799994
YMin: 29.589727989000075
XMax: -94.90709357199994
YMax: 29.994510981000076
Spatial Reference: 4326
(4326)
Initial Extent:
XMin: -95.66285018799994
YMin: 29.589727989000075
XMax: -94.90709357199994
YMax: 29.994510981000076
Spatial Reference: 4326
(4326)
Full Extent:
XMin: -95.66285018799994
YMin: 29.589727989000075
XMax: -94.90709357199994
YMax: 29.994510981000076
Spatial Reference: 4326
(4326)
Pixel Size X: 8.983199999999992E-5
Pixel Size Y: 8.983200000000027E-5
Band Count: 1
Pixel Type: F32
RasterFunction Infos: {"rasterFunctionInfos": [
{
"name": "Nampa_Air_Temperature",
"description": "A raster function template.",
"help": ""
},
{
"name": "None",
"description": "Make a Raster or Raster Dataset into a Function Raster Dataset.",
"help": ""
}
]}
Mensuration Capabilities: Basic
Inspection Capabilities:
Has Histograms: true
Has Colormap: false
Has Multi Dimensions : false
Rendering Rule:
Min Scale: 0
Max Scale: 0
Resampling: false
Copyright Text: NOAA
Service Data Type: esriImageServiceDataTypeScientific
Min Values: 94.02677154541016
Max Values: 111.3984603881836
Mean Values: 99.99533545234482
Standard Deviation Values: 1.2746484778710687
Object ID Field: objectid
Fields:
-
objectid
(
type: esriFieldTypeOID, alias: objectid
)
-
name
(
type: esriFieldTypeString, alias: name, length: 200
)
-
minps
(
type: esriFieldTypeDouble, alias: minps
)
-
maxps
(
type: esriFieldTypeDouble, alias: maxps
)
-
lowps
(
type: esriFieldTypeDouble, alias: lowps
)
-
highps
(
type: esriFieldTypeDouble, alias: highps
)
-
category
(
type: esriFieldTypeInteger, alias: category
, Coded Values:
[0: Unknown]
, [1: Primary]
, [2: Overview]
, ...6 more...
)
-
tag
(
type: esriFieldTypeString, alias: tag, length: 100
)
-
groupname
(
type: esriFieldTypeString, alias: groupname, length: 100
)
-
productname
(
type: esriFieldTypeString, alias: productname, length: 100
)
-
centerx
(
type: esriFieldTypeDouble, alias: centerx
)
-
centery
(
type: esriFieldTypeDouble, alias: centery
)
-
zorder
(
type: esriFieldTypeInteger, alias: zorder
)
-
shape
(
type: esriFieldTypeGeometry, alias: shape
)
-
city_name
(
type: esriFieldTypeString, alias: city_name, length: 255
)
-
environmental_variable
(
type: esriFieldTypeString, alias: environmental_variable, length: 255
)
-
units
(
type: esriFieldTypeString, alias: units, length: 255
)
-
units_abbreviation
(
type: esriFieldTypeString, alias: units_abbreviation, length: 255
)
-
start_time_01
(
type: esriFieldTypeDate, alias: start_time_01, length: 8
)
-
end_time_01
(
type: esriFieldTypeDate, alias: end_time_01, length: 8
)
-
start_time_02
(
type: esriFieldTypeDate, alias: start_time_02, length: 8
)
-
end_time_02
(
type: esriFieldTypeDate, alias: end_time_02, length: 8
)
-
start_time_03
(
type: esriFieldTypeDate, alias: start_time_03, length: 8
)
-
end_time_03
(
type: esriFieldTypeDate, alias: end_time_03, length: 8
)
-
st_area(shape)
(
type: esriFieldTypeDouble, alias: st_area(shape)
)
-
st_perimeter(shape)
(
type: esriFieldTypeDouble, alias: st_perimeter(shape)
)
Default Mosaic Method: ByAttribute
Allowed Mosaic Methods: ByAttribute,None,Center,NorthWest,LockRaster,Nadir,Viewpoint,Seamline
SortField: Start_Time_01
SortValue: 3000
Mosaic Operator: First
Default Compression Quality: 75
Default Resampling Method: Bilinear
Max Record Count: 1000
Max Image Height: 4100
Max Image Width: 15000
Max Download Image Count: 1000
Max Mosaic Image Count: 1000
Allow Raster Function: true
Allow Copy: true
Allow Analysis: true
Allow Compute TiePoints: false
Supports Statistics: true
Supports Advanced Queries: true
Use StandardizedQueries: true
Raster Type Infos:
Name: Raster Dataset
Description: Supports all ArcGIS Raster Datasets
Help:
Has Raster Attribute Table: false
Edit Fields Info: null
Ownership Based AccessControl For Rasters: null
Child Resources:
Info
Histograms
Statistics
Key Properties
Legend
Raster Function Infos
Supported Operations:
Export Image
Query
Identify
Measure
Compute Histograms
Compute Statistics Histograms
Get Samples
Compute Class Statistics
Query GPS Info
Find Images
Image to Map
Map to Image
Measure from Image
Image to Map Multiray
Query Boundary
Compute Pixel Location
Compute Angles
Validate
Project