View In:
ArcGIS JavaScript
ArcGIS Online Map Viewer
ArcGIS Earth
ArcMap
View Footprint In:
ArcGIS Online Map Viewer
Service Description: Non-time-enabled service from full resolution NOAA-20 True Color data
Name: VIRFI/VIIRS_Fire
Description: Non-time-enabled service from full resolution NOAA-20 True Color data
Single Fused Map Cache: false
Extent:
XMin: -44.999999315000004
YMin: -67.499999565
XMax: 179.99999812500002
YMax: 87.187498675
Spatial Reference: 4326
(4326)
Initial Extent:
XMin: -44.999999315000004
YMin: -67.499999565
XMax: 179.99999812500002
YMax: 87.187498675
Spatial Reference: 4326
(4326)
Full Extent:
XMin: -44.999999315000004
YMin: -67.499999565
XMax: 179.99999812500002
YMax: 87.187498675
Spatial Reference: 4326
(4326)
Pixel Size X: 0.002746582
Pixel Size Y: 0.002746582
Band Count: 3
Pixel Type: U8
RasterFunction Infos: {"rasterFunctionInfos": [{
"name": "None",
"description": "A No-Op Function.",
"help": ""
}]}
Mensuration Capabilities: None
Has Histograms: true
Has Colormap: false
Has Multi Dimensions : false
Rendering Rule:
Min Scale: 0
Max Scale: 0
Copyright Text:
Service Data Type: esriImageServiceDataTypeRGB
Min Values: 0, 1, 1
Max Values: 255, 255, 255
Mean Values: 154.43456673605556, 154.98534652719948, 158.11243641670106
Standard Deviation Values: 88.4494542245562, 85.8013080748674, 81.99081321387914
Object ID Field: objectid
Fields:
-
objectid
(
type: esriFieldTypeOID, alias: objectid
)
-
name
(
type: esriFieldTypeString, alias: name, length: 200
)
-
minps
(
type: esriFieldTypeDouble, alias: minps
)
-
maxps
(
type: esriFieldTypeDouble, alias: maxps
)
-
lowps
(
type: esriFieldTypeDouble, alias: lowps
)
-
highps
(
type: esriFieldTypeDouble, alias: highps
)
-
category
(
type: esriFieldTypeInteger, alias: category
, Coded Values:
[0: Unknown]
, [1: Primary]
, [2: Overview]
, ...6 more...
)
-
tag
(
type: esriFieldTypeString, alias: tag, length: 100
)
-
groupname
(
type: esriFieldTypeString, alias: groupname, length: 100
)
-
productname
(
type: esriFieldTypeString, alias: productname, length: 100
)
-
centerx
(
type: esriFieldTypeDouble, alias: centerx
)
-
centery
(
type: esriFieldTypeDouble, alias: centery
)
-
zorder
(
type: esriFieldTypeInteger, alias: zorder
)
-
shape
(
type: esriFieldTypeGeometry, alias: shape
)
-
st_area(shape)
(
type: esriFieldTypeDouble, alias: st_area(shape)
)
-
st_length(shape)
(
type: esriFieldTypeDouble, alias: st_length(shape)
)
Default Mosaic Method: Northwest
Allowed Mosaic Methods: NorthWest,Center,LockRaster,ByAttribute,Nadir,Viewpoint,Seamline,None
SortField:
SortValue: null
Mosaic Operator: First
Default Compression Quality: 75
Default Resampling Method: Bilinear
Max Record Count: 1000
Max Image Height: 4100
Max Image Width: 15000
Max Download Image Count: 20
Max Mosaic Image Count: 32768
Allow Raster Function: true
Allow Copy: null
Allow Analysis: null
Allow Compute TiePoints: false
Supports Statistics: true
Supports Advanced Queries: true
Use StandardizedQueries: true
Raster Type Infos:
Name: Raster Dataset
Description: Supports all ArcGIS Raster Datasets
Help:
Has Raster Attribute Table: false
Edit Fields Info: null
Ownership Based AccessControl For Rasters: null
Child Resources:
Info
Histograms
Key Properties
Legend
Raster Function Infos
Supported Operations:
Export Image
Query
Identify
Compute Histograms
Compute Statistics Histograms
Get Samples
Compute Class Statistics
Query Boundary
Compute Pixel Location
Validate
Project